BEGIN:VCALENDAR
VERSION:2.0
PRODID:-//JVS Toronto - ECPv6.15.20//NONSGML v1.0//EN
CALSCALE:GREGORIAN
METHOD:PUBLISH
X-WR-CALNAME:JVS Toronto
X-ORIGINAL-URL:https://www.jvstoronto.org
X-WR-CALDESC:Events for JVS Toronto
REFRESH-INTERVAL;VALUE=DURATION:PT1H
X-Robots-Tag:noindex
X-PUBLISHED-TTL:PT1H
BEGIN:VTIMEZONE
TZID:America/Toronto
BEGIN:DAYLIGHT
TZOFFSETFROM:-0500
TZOFFSETTO:-0400
TZNAME:EDT
DTSTART:20250309T070000
END:DAYLIGHT
BEGIN:STANDARD
TZOFFSETFROM:-0400
TZOFFSETTO:-0500
TZNAME:EST
DTSTART:20251102T060000
END:STANDARD
BEGIN:DAYLIGHT
TZOFFSETFROM:-0500
TZOFFSETTO:-0400
TZNAME:EDT
DTSTART:20260308T070000
END:DAYLIGHT
BEGIN:STANDARD
TZOFFSETFROM:-0400
TZOFFSETTO:-0500
TZNAME:EST
DTSTART:20261101T060000
END:STANDARD
BEGIN:DAYLIGHT
TZOFFSETFROM:-0500
TZOFFSETTO:-0400
TZNAME:EDT
DTSTART:20270314T070000
END:DAYLIGHT
BEGIN:STANDARD
TZOFFSETFROM:-0400
TZOFFSETTO:-0500
TZNAME:EST
DTSTART:20271107T060000
END:STANDARD
END:VTIMEZONE
BEGIN:VEVENT
DTSTART;TZID=America/Toronto:20260316T130000
DTEND;TZID=America/Toronto:20260316T143000
DTSTAMP:20260422T042652
CREATED:20260212T155928Z
LAST-MODIFIED:20260212T155928Z
UID:10000810-1773666000-1773671400@www.jvstoronto.org
SUMMARY:NYCS: Financial Literacy Workshop
DESCRIPTION:New to Canada? Ready to take control of your money? \nJoin us for a FREE\, hands-on\, and fun workshop where you’ll unlock the secrets to smart money management!\nWhether you’re saving for your first phone\, planning your future\, or just curious about how money works in Canada — this workshop is for YOU. Get real tips\, meet new friends\, and build money skills that’ll last a lifetime! \nYou’ll learn about: \n\nHow to make informed decisions about credit cards and loans\nUnderstand the importance of emergency savings funds\nCreate a monthly budget\nLearn how to recognize potential risks to personal finances\n\nLocation: Bathurst-Finch Hub\, Room 2 + 3\, 540 Finch Ave W\, North York\nSnacks\, refreshments\, and transportation support provided. \nSpace is limited; advance registration required. To secure your seat\, email: aneta.shimonov@jvstoronto.org 
URL:https://www.jvstoronto.org/workshop-calendar/nycs-financial-literacy-workshop/
LOCATION:Bathurst Finch Hub\, 540 Finch Avenue West\, Toronto\, Ontario\, M2R 1N9\, Canada
CATEGORIES:Youth Events
GEO:43.7740326;-79.4450739
X-APPLE-STRUCTURED-LOCATION;VALUE=URI;X-ADDRESS=Bathurst Finch Hub 540 Finch Avenue West Toronto Ontario M2R 1N9 Canada;X-APPLE-RADIUS=500;X-TITLE=540 Finch Avenue West:geo:-79.4450739,43.7740326
END:VEVENT
BEGIN:VEVENT
DTSTART;TZID=America/Toronto:20260317T153000
DTEND;TZID=America/Toronto:20260317T170000
DTSTAMP:20260422T042652
CREATED:20260212T155313Z
LAST-MODIFIED:20260212T155313Z
UID:10000808-1773761400-1773766800@www.jvstoronto.org
SUMMARY:NYCS: Public Speaking Workshop
DESCRIPTION:Workshop topics will include: \n\nBuilding confidence when speaking in front of others\nOvercoming nervousness and stage fright\nHow to structure and deliver a clear message\nVoice\, body language\, and presentation skills\nSpeaking up at school\, work\, and in everyday situations\n\nThis workshop is a great opportunity to learn practical skills\, participate in fun activities\, and connect with other youth. \nWhy join: \n\nSupportive environment\nMeet other newcomer youth\nBuild real-world skills for school\, jobs\, and life\n\nLocation: Bathurst-Finch Hub\, Room 2+3\, 540 Finch Ave W\, North York\nSnacks\, refreshments\, and transportation support provided. \nSpace is limited; advance registration required. To secure your seat\, email: aneta.shimonov@jvstoronto.org 
URL:https://www.jvstoronto.org/workshop-calendar/nycs-public-speaking-workshop/
LOCATION:Bathurst Finch Hub\, 540 Finch Avenue West\, Toronto\, Ontario\, M2R 1N9\, Canada
CATEGORIES:Youth Events
GEO:43.7740326;-79.4450739
X-APPLE-STRUCTURED-LOCATION;VALUE=URI;X-ADDRESS=Bathurst Finch Hub 540 Finch Avenue West Toronto Ontario M2R 1N9 Canada;X-APPLE-RADIUS=500;X-TITLE=540 Finch Avenue West:geo:-79.4450739,43.7740326
END:VEVENT
BEGIN:VEVENT
DTSTART;TZID=America/Toronto:20260318T163000
DTEND;TZID=America/Toronto:20260318T183000
DTSTAMP:20260422T042652
CREATED:20260209T173718Z
LAST-MODIFIED:20260217T205359Z
UID:10000807-1773851400-1773858600@www.jvstoronto.org
SUMMARY:NYCS: Work at Summer Camp Information Session
DESCRIPTION:Turn Your Summer Into an Adventure!\nLooking for a fun summer job that actually matters? Come check out our Work at Summer Camp Info Session and see how you can get paid to have fun\, build skills\, and meet awesome people! \nAt the event\, you’ll: \n\nGet the inside scoop on what it’s actually like to work at a summer camp\nFind out how a summer job can boost your future (yes\, even now!)\nBuild real-life skills like leadership\, confidence\, teamwork\, and communication\nLearn what employers look for when hiring students\nGet tips to level up your resume\nApply with confidence and know exactly what to expect in the hiring process\n\nWhether you’re all about leadership\, teamwork\, or just want a summer you’ll never forget—this is for you! \nLocation: Bathurst-Finch Hub – 540 Finch Ave W.\, Room 1\nSnacks\, refreshments\, and transportation support provided. \nSpace is limited; advance registration required. Registration closes on March 13\, 2026. To secure your seat\, email: aneta.shimonov@jvstoronto.org 
URL:https://www.jvstoronto.org/workshop-calendar/work-at-summer-camp-information-session/
LOCATION:Bathurst Finch Hub\, 540 Finch Avenue West\, Toronto\, Ontario\, M2R 1N9\, Canada
CATEGORIES:Youth Events
GEO:43.7740326;-79.4450739
X-APPLE-STRUCTURED-LOCATION;VALUE=URI;X-ADDRESS=Bathurst Finch Hub 540 Finch Avenue West Toronto Ontario M2R 1N9 Canada;X-APPLE-RADIUS=500;X-TITLE=540 Finch Avenue West:geo:-79.4450739,43.7740326
END:VEVENT
BEGIN:VEVENT
DTSTART;TZID=America/Toronto:20260319T100000
DTEND;TZID=America/Toronto:20260319T170000
DTSTAMP:20260422T042652
CREATED:20260212T155650Z
LAST-MODIFIED:20260212T155650Z
UID:10000809-1773914400-1773939600@www.jvstoronto.org
SUMMARY:NYCS: Standard First Aid & CPR AED Level C
DESCRIPTION:Are you a high school student eager to make a difference and be a hero in times of need? Look no further! Our Standard First Aid & CPR AED Level C is tailor-made for youth like you who want to be equipped with essential life-saving skills. \nWhy enroll? \n\nBe a Lifesaver: Learn the fundamental techniques of CPR and how to respond to emergencies with confidence.\nBoost Your Resume: Earn a recognized CPR certification that stands out on college applications and future job opportunities.\nInteractive Learning: Engaging sessions led by experienced instructors make learning fun and memorable.\nFriendship and Teamwork\nCertification: Get a Level A/C CPR certification upon successful completion of the course.\n\nLocation: 4576 Yonge St\, 3rd floor\, North York\, ON M2N 6N4\nSnacks\, refreshments\, and transportation support provided. \nSpace is limited; advance registration required. To secure your seat\, email: aneta.shimonov@jvstoronto.org 
URL:https://www.jvstoronto.org/workshop-calendar/nycs-first-aid-and-cpr/
LOCATION:Employment Source Yonge Street\, 300-4576 Yonge Street\, North York\, ON\, M2N 6N4\, Canada
CATEGORIES:Youth Events
GEO:43.7561482;-79.4099476
X-APPLE-STRUCTURED-LOCATION;VALUE=URI;X-ADDRESS=Employment Source Yonge Street 300-4576 Yonge Street North York ON M2N 6N4 Canada;X-APPLE-RADIUS=500;X-TITLE=300-4576 Yonge Street:geo:-79.4099476,43.7561482
END:VEVENT
END:VCALENDAR