BEGIN:VCALENDAR
VERSION:2.0
PRODID:-//JVS Toronto - ECPv6.15.20//NONSGML v1.0//EN
CALSCALE:GREGORIAN
METHOD:PUBLISH
X-ORIGINAL-URL:https://www.jvstoronto.org
X-WR-CALDESC:Events for JVS Toronto
REFRESH-INTERVAL;VALUE=DURATION:PT1H
X-Robots-Tag:noindex
X-PUBLISHED-TTL:PT1H
BEGIN:VTIMEZONE
TZID:America/Toronto
BEGIN:DAYLIGHT
TZOFFSETFROM:-0500
TZOFFSETTO:-0400
TZNAME:EDT
DTSTART:20240310T070000
END:DAYLIGHT
BEGIN:STANDARD
TZOFFSETFROM:-0400
TZOFFSETTO:-0500
TZNAME:EST
DTSTART:20241103T060000
END:STANDARD
BEGIN:DAYLIGHT
TZOFFSETFROM:-0500
TZOFFSETTO:-0400
TZNAME:EDT
DTSTART:20250309T070000
END:DAYLIGHT
BEGIN:STANDARD
TZOFFSETFROM:-0400
TZOFFSETTO:-0500
TZNAME:EST
DTSTART:20251102T060000
END:STANDARD
BEGIN:DAYLIGHT
TZOFFSETFROM:-0500
TZOFFSETTO:-0400
TZNAME:EDT
DTSTART:20260308T070000
END:DAYLIGHT
BEGIN:STANDARD
TZOFFSETFROM:-0400
TZOFFSETTO:-0500
TZNAME:EST
DTSTART:20261101T060000
END:STANDARD
END:VTIMEZONE
BEGIN:VEVENT
DTSTART;TZID=America/Toronto:20251125T163000
DTEND;TZID=America/Toronto:20251125T203000
DTSTAMP:20260422T090450
CREATED:20251027T154547Z
LAST-MODIFIED:20251111T190613Z
UID:10000733-1764088200-1764102600@www.jvstoronto.org
SUMMARY:NYCS: Suit Up for Success Workshop
DESCRIPTION:Free Suit-Fitting Event for Newcomers\nStep into your future — in style. \nAre you a newcomer youth getting ready for your first job interview\, graduation\, or a big event? We’ve got you covered! \nJoin us for Suit Up for Success\, a one-day event where you’ll be fitted for your very first suit — completely FREE! \nWhat to Expect: \n\nA personalized suit fitting\nStyle tips & confidence boosters to dress professionally\nA welcoming\, youth-friendly space\nGet a professional LinkedIn headshot to network online\n\nLocation: Meet at 540 Finch Avenue West\, North York for transportation to the event at 4:30 PM\, the bus will return to same location at 8:30 PM. Open to newcomer youth 15-18 who have PR card or Convention Refugee Status who live in North York and York Region. \nEmail amy.feigelsohn@jvstoronto.org to register.
URL:https://www.jvstoronto.org/workshop-calendar/nycs-suit-up-for-success-workshop/
LOCATION:Bathurst Finch Hub\, 540 Finch Avenue West\, Toronto\, Ontario\, M2R 1N9\, Canada
CATEGORIES:Youth Events
GEO:43.7740326;-79.4450739
X-APPLE-STRUCTURED-LOCATION;VALUE=URI;X-ADDRESS=Bathurst Finch Hub 540 Finch Avenue West Toronto Ontario M2R 1N9 Canada;X-APPLE-RADIUS=500;X-TITLE=540 Finch Avenue West:geo:-79.4450739,43.7740326
END:VEVENT
BEGIN:VEVENT
DTSTART;TZID=America/Toronto:20251126T163000
DTEND;TZID=America/Toronto:20251126T183000
DTSTAMP:20260422T090450
CREATED:20251021T143758Z
LAST-MODIFIED:20251021T143758Z
UID:10000719-1764174600-1764181800@www.jvstoronto.org
SUMMARY:Unlock Your First Job
DESCRIPTION:In collaboration with Welcome Centre Richmond Hill\, this program will help immigrant youth discover their strengths\, develop job readiness skills\, build their first resume\, explore youth employment opportunities\, and set goals through fun and interactive activities. You will get a certificate upon completetion. \nOpen to Permanent Residents and Convention Refugees\, ages 15 to 18. \nSign up at Unlock Your First Job \nOr contact Raziyeh.Hosseinpour@welcomecentre.ca or 647-876-8703.
URL:https://www.jvstoronto.org/workshop-calendar/unlock-your-first-job/2025-11-26/
LOCATION:Welcome Centre Richmond Hill\, 9325 Yonge Street\, Richmond Hill\, Ontario\, L4C 0A8\, Canada
CATEGORIES:Youth Events
ATTACH;FMTTYPE=image/png:https://www.jvstoronto.org/wp-content/uploads/2021/03/CalendarIcons_Resume.png
GEO:43.8556555;-79.4317086
X-APPLE-STRUCTURED-LOCATION;VALUE=URI;X-ADDRESS=Welcome Centre Richmond Hill 9325 Yonge Street Richmond Hill Ontario L4C 0A8 Canada;X-APPLE-RADIUS=500;X-TITLE=9325 Yonge Street:geo:-79.4317086,43.8556555
END:VEVENT
END:VCALENDAR