BEGIN:VCALENDAR
VERSION:2.0
PRODID:-//JVS Toronto - ECPv6.15.20//NONSGML v1.0//EN
CALSCALE:GREGORIAN
METHOD:PUBLISH
X-ORIGINAL-URL:https://www.jvstoronto.org
X-WR-CALDESC:Events for JVS Toronto
REFRESH-INTERVAL;VALUE=DURATION:PT1H
X-Robots-Tag:noindex
X-PUBLISHED-TTL:PT1H
BEGIN:VTIMEZONE
TZID:America/Toronto
BEGIN:DAYLIGHT
TZOFFSETFROM:-0500
TZOFFSETTO:-0400
TZNAME:EDT
DTSTART:20240310T070000
END:DAYLIGHT
BEGIN:STANDARD
TZOFFSETFROM:-0400
TZOFFSETTO:-0500
TZNAME:EST
DTSTART:20241103T060000
END:STANDARD
BEGIN:DAYLIGHT
TZOFFSETFROM:-0500
TZOFFSETTO:-0400
TZNAME:EDT
DTSTART:20250309T070000
END:DAYLIGHT
BEGIN:STANDARD
TZOFFSETFROM:-0400
TZOFFSETTO:-0500
TZNAME:EST
DTSTART:20251102T060000
END:STANDARD
BEGIN:DAYLIGHT
TZOFFSETFROM:-0500
TZOFFSETTO:-0400
TZNAME:EDT
DTSTART:20260308T070000
END:DAYLIGHT
BEGIN:STANDARD
TZOFFSETFROM:-0400
TZOFFSETTO:-0500
TZNAME:EST
DTSTART:20261101T060000
END:STANDARD
END:VTIMEZONE
BEGIN:VEVENT
DTSTART;TZID=America/Toronto:20251119T163000
DTEND;TZID=America/Toronto:20251119T183000
DTSTAMP:20260422T103838
CREATED:20251021T143758Z
LAST-MODIFIED:20251021T143758Z
UID:10000718-1763569800-1763577000@www.jvstoronto.org
SUMMARY:Unlock Your First Job
DESCRIPTION:In collaboration with Welcome Centre Richmond Hill\, this program will help immigrant youth discover their strengths\, develop job readiness skills\, build their first resume\, explore youth employment opportunities\, and set goals through fun and interactive activities. You will get a certificate upon completetion. \nOpen to Permanent Residents and Convention Refugees\, ages 15 to 18. \nSign up at Unlock Your First Job \nOr contact Raziyeh.Hosseinpour@welcomecentre.ca or 647-876-8703.
URL:https://www.jvstoronto.org/workshop-calendar/unlock-your-first-job/2025-11-19/
LOCATION:Welcome Centre Richmond Hill\, 9325 Yonge Street\, Richmond Hill\, Ontario\, L4C 0A8\, Canada
CATEGORIES:Youth Events
ATTACH;FMTTYPE=image/png:https://www.jvstoronto.org/wp-content/uploads/2021/03/CalendarIcons_Resume.png
GEO:43.8556555;-79.4317086
X-APPLE-STRUCTURED-LOCATION;VALUE=URI;X-ADDRESS=Welcome Centre Richmond Hill 9325 Yonge Street Richmond Hill Ontario L4C 0A8 Canada;X-APPLE-RADIUS=500;X-TITLE=9325 Yonge Street:geo:-79.4317086,43.8556555
END:VEVENT
BEGIN:VEVENT
DTSTART;TZID=America/Toronto:20251121T143000
DTEND;TZID=America/Toronto:20251121T173000
DTSTAMP:20260422T103838
CREATED:20250722T161327Z
LAST-MODIFIED:20251016T151758Z
UID:10000666-1763735400-1763746200@www.jvstoronto.org
SUMMARY:NYCS: Career Exploration Workshop
DESCRIPTION:Newcomer Youth: Connections for Success (NYCS)\nCareer Exploration Workshop \nConfused about your future? Not sure what to study after high school? Want to know what job would be your best fit? \nJoin this fun\, FREE interactive workshop led by a Career Counsellor with coaching & a personality test. You will come out of this workshop feeling confident about your future career path! Open to newcomer youth 15-18 who have PR card or Convention Refugee Status who live in North York or York Region. \nIn Person: Bathurst-Finch Hub\, 540 Finch Ave W\, North York\, Room 1. Snacks\, refreshments\, and transportation support provided. \nEmail amy.feigelsohn@jvstoronto.org to register.
URL:https://www.jvstoronto.org/workshop-calendar/nycs-career-exploration-workshop/
LOCATION:Bathurst Finch Hub\, 540 Finch Avenue West\, Toronto\, Ontario\, M2R 1N9\, Canada
CATEGORIES:Networking & Info Sessions,Youth Events
ATTACH;FMTTYPE=image/png:https://www.jvstoronto.org/wp-content/uploads/2021/03/CalendarIcons_Skills2.png
GEO:43.7740326;-79.4450739
X-APPLE-STRUCTURED-LOCATION;VALUE=URI;X-ADDRESS=Bathurst Finch Hub 540 Finch Avenue West Toronto Ontario M2R 1N9 Canada;X-APPLE-RADIUS=500;X-TITLE=540 Finch Avenue West:geo:-79.4450739,43.7740326
END:VEVENT
END:VCALENDAR