BEGIN:VCALENDAR
VERSION:2.0
PRODID:-//JVS Toronto - ECPv6.15.20//NONSGML v1.0//EN
CALSCALE:GREGORIAN
METHOD:PUBLISH
X-WR-CALNAME:JVS Toronto
X-ORIGINAL-URL:https://www.jvstoronto.org
X-WR-CALDESC:Events for JVS Toronto
REFRESH-INTERVAL;VALUE=DURATION:PT1H
X-Robots-Tag:noindex
X-PUBLISHED-TTL:PT1H
BEGIN:VTIMEZONE
TZID:America/Toronto
BEGIN:DAYLIGHT
TZOFFSETFROM:-0500
TZOFFSETTO:-0400
TZNAME:EDT
DTSTART:20250309T070000
END:DAYLIGHT
BEGIN:STANDARD
TZOFFSETFROM:-0400
TZOFFSETTO:-0500
TZNAME:EST
DTSTART:20251102T060000
END:STANDARD
BEGIN:DAYLIGHT
TZOFFSETFROM:-0500
TZOFFSETTO:-0400
TZNAME:EDT
DTSTART:20260308T070000
END:DAYLIGHT
BEGIN:STANDARD
TZOFFSETFROM:-0400
TZOFFSETTO:-0500
TZNAME:EST
DTSTART:20261101T060000
END:STANDARD
BEGIN:DAYLIGHT
TZOFFSETFROM:-0500
TZOFFSETTO:-0400
TZNAME:EDT
DTSTART:20270314T070000
END:DAYLIGHT
BEGIN:STANDARD
TZOFFSETFROM:-0400
TZOFFSETTO:-0500
TZNAME:EST
DTSTART:20271107T060000
END:STANDARD
END:VTIMEZONE
BEGIN:VEVENT
DTSTART;TZID=America/Toronto:20260203T100000
DTEND;TZID=America/Toronto:20260203T123000
DTSTAMP:20260422T011901
CREATED:20231214T194226Z
LAST-MODIFIED:20260420T154416Z
UID:10000778-1770112800-1770121800@www.jvstoronto.org
SUMMARY:Resumes & Cover Letters
DESCRIPTION:Create a resume and cover letter that get results.\nDesigned to help job seekers from all backgrounds\, this workshop is packed with valuable tips and insights that will get you noticed by hiring professionals. \nLearn about: \n\nthe components of an effective resume\nthe different resume format (and which one works best for you)\nhow to include references\nhow to optimize for ATS (Applicant Tracking Systems)\nkeywords – where to find them and how to use them\nsoft skills vs hard skills\nand more!\n\nYou will also learn how to apply for jobs online with your new resume and cover letter\, and how to uncover the hidden job market. \nMake your resume stand out. Register for Resumes & Cover Letters Workshop. \n\n\n\n\n\n\nResume Workshop Registration\n\n\n\n\n\n\n\nPlease fill out this form. A JVS Toronto representative will contact you with more details including links and instructions.\n\n    First Name\n        *\n    \n    \n    \n    \n\n\n    Last Name\n        *\n    \n    \n    \n    \n\n\n    Email\n        *\n    \n    \n    \n    \n\n\n    Phone\n        *\n    \n    \n    \n    \n\n\n    Do you currently live in Ontario?\n        *\n    \n    					\n					 Yes\n					\n					 No\n\n    \n    \n\n\nJVS Toronto's Job Search Workshops are only open to residents of Ontario. If you are immigrating to Canada in the next 2 to 12 months\, please visit Canada InfoNet for pre-arrival employment services.  \nIf you live in another province or territory\, please contact your provincial or territorial government for employment assistance in your area. \n\n\n\n    Select the date of the workshop you would like to attend\n        *\n    \n    		\n		Tuesday April 21Tuesday April 28Tuesday May 5Tuesday May 12Tuesday May 19Tuesday May 26	\n	\n    \n    \n\n\n    Are you already a JVS Toronto client?\n        *\n    \n    					\n					 Yes\n					\n					 No\n\n    \n    \n\n\n    If yes\, what is the name of your Employment Counsellor?\n        \n    \n    \n    \n    \n\n\n    Would you like more information about one-on-one employment counselling and/or other JVS Toronto employment support services?\n        *\n    \n    					\n					 Yes\n					\n					 No\n\n    \n    \n\n\n	\n\nSubmit\n\n\n\n	\n			\n			\n				If you are human\, leave this field blank.			\n			\n		\n		\n\n\n\nΔ
URL:https://www.jvstoronto.org/workshop-calendar/resumes-cover-letters-2/2026-02-03/
LOCATION:Online\, Toronto\, Ontario\, Canada
CATEGORIES:Job Search Skills,Resume Workshops
ATTACH;FMTTYPE=image/png:https://www.jvstoronto.org/wp-content/uploads/2021/03/CalendarIcons_Hiring.png
END:VEVENT
BEGIN:VEVENT
DTSTART;TZID=America/Toronto:20260205T100000
DTEND;TZID=America/Toronto:20260205T133000
DTSTAMP:20260422T011901
CREATED:20221220T193010Z
LAST-MODIFIED:20260420T154929Z
UID:10000784-1770285600-1770298200@www.jvstoronto.org
SUMMARY:Interview Skills
DESCRIPTION:Learn the interview secrets favoured by hiring professionals. \nDiscover the Do’s and Don’ts of interview etiquette – from the very first phone call to the very last thank you email. Turn job interviews into job offers. \nLearn about: \n\ndifferent interview formats and what to expect in them\nhow to prepare for challenging questions\nthe STAR technique\nwhat questions to ask a potential employer\nhow to minimize interview anxiety and feel more confident\nthe best ways to follow-up after the interview\nand more!\n\nAce your next job interview! Register for Interview Skills Workshop. \n\n\n\n\n\nInterview Workshop Registration\n\n\n\n\n\n\n\n\nPlease fill out this form. A JVS Toronto representative will contact you with more details including links and instructions. \n\n    First Name\n        *\n    \n    \n    \n    \n\n\n    Last Name\n        *\n    \n    \n    \n    \n\n\n    Email\n        *\n    \n    \n    \n    \n\n\n    Phone\n        *\n    \n    \n    \n    \n\n\n    Do you currently live in Ontario?\n        *\n    \n    					\n					 Yes\n					\n					 No\n\n    \n    \n\nJVS Toronto's Job Search Workshops are only open to residents of Ontario. If you are immigrating to Canada in the next 2 to 12 months\, please visit Canada InfoNet for pre-arrival employment services. \nIf you live in another province or territory\, please contact your provincial or territorial government for employment assistance in your area. \n\n\n\n    Select the date of the workshop you would like to attend\n        *\n    \n    		\n		Thursday April 23Thursday April 30Thursday May 7Thursday May 14Thursday May 21	\n	\n    \n    \n\n\n    Are you already a JVS Toronto client?\n        *\n    \n    					\n					 Yes\n					\n					 No\n\n    \n    \n\n\n    If yes\, what is the name of your Employment Counsellor?\n        \n    \n    \n    \n    \n\n\n    Would you like more information about one-on-one employment counselling and/or other JVS Toronto employment support services?\n        *\n    \n    					\n					 Yes\n					\n					 No\n\n    \n    \n\n\n	\n\nSubmit\n\n\n\n	\n			\n			\n				If you are human\, leave this field blank.			\n			\n		\n		\n\n\n\nΔ
URL:https://www.jvstoronto.org/workshop-calendar/interview-skills-6/2026-02-05/
LOCATION:Online\, Toronto\, Ontario\, Canada
CATEGORIES:Interview Skills,Job Search Skills
ATTACH;FMTTYPE=image/png:https://www.jvstoronto.org/wp-content/uploads/2021/03/CalendarIcons_Interview.png
END:VEVENT
BEGIN:VEVENT
DTSTART;TZID=America/Toronto:20260209T100000
DTEND;TZID=America/Toronto:20260209T130000
DTSTAMP:20260422T011901
CREATED:20221220T191549Z
LAST-MODIFIED:20260420T154154Z
UID:10000775-1770631200-1770642000@www.jvstoronto.org
SUMMARY:LinkedIn for Job Seekers
DESCRIPTION:How to get hired faster using LinkedIn \nWhether you are looking for a job\, a new graduate\, or making a career change\, it is important to build an effective online presence. Discover how to create an “All Star” LinkedIn profile and use it to expand your network\, find employment opportunities and let potential employers know what makes you unique. \nLearn about: \n\nHow LinkedIn is useful for job seekers\nWays to build a profile that attracts employers\nHow to use your profile to network\nFind and apply for jobs on LinkedIn\nUse LinkedIn to sustain and build your long term career\nand more!\n\nFind work\, get noticed and attract potential employers. Register for the LinkedIn for Job Seekers Workshop. \n\n\n\n\n\nLinkedIn Workshop Registration\n\n\n\n\n\n\n\n\nPlease fill out this form. A JVS Toronto representative will contact you with more details including links and instructions. \n\n    First Name\n        *\n    \n    \n    \n    \n\n\n    Last Name\n        *\n    \n    \n    \n    \n\n\n    Email\n        *\n    \n    \n    \n    \n\n\n    Phone\n        *\n    \n    \n    \n    \n\n\n    Do you currently live in Ontario?\n        *\n    \n    					\n					 Yes\n					\n					 No\n\n    \n    \n\n\nJVS Toronto's Job Search Workshops are only open to residents of Ontario. If you are immigrating to Canada in the next 2 to 12 months\, please visit Canada InfoNet for pre-arrival employment services.  \nIf you live in another province or territory\, please contact your provincial or territorial government for employment assistance in your area. \n\n\n\n    Select the date of the workshop you would like to attend\n        *\n    \n    		\n		Monday May 11	\n	\n    \n    \n\n\n    Are you already a JVS Toronto client?\n        *\n    \n    					\n					 Yes\n					\n					 No\n\n    \n    \n\n\n    If yes\, what is the name of your Employment Counsellor?\n        *\n    \n    \n    \n    \n\n\n    Would you like more information about one-on-one employment counselling and/or other JVS Toronto employment support services?\n        *\n    \n    					\n					 Yes\n					\n					 No\n\n    \n    \n\n\n	Date\n		\n	\n	\n	\n	\n\n\n	\n\nSubmit\n\n\n\n	\n			\n			\n				If you are human\, leave this field blank.			\n			\n		\n		\n\n\n\nΔ
URL:https://www.jvstoronto.org/workshop-calendar/linkedin-for-job-seekers/2026-02-09/
LOCATION:Online\, Toronto\, Ontario\, Canada
CATEGORIES:Job Search Skills,LinkedIn Tips
ATTACH;FMTTYPE=image/png:https://www.jvstoronto.org/wp-content/uploads/2021/03/CalendarIcons_LinkedIn.png
END:VEVENT
BEGIN:VEVENT
DTSTART;TZID=America/Toronto:20260210T100000
DTEND;TZID=America/Toronto:20260210T123000
DTSTAMP:20260422T011901
CREATED:20231214T194226Z
LAST-MODIFIED:20260420T154416Z
UID:10000779-1770717600-1770726600@www.jvstoronto.org
SUMMARY:Resumes & Cover Letters
DESCRIPTION:Create a resume and cover letter that get results.\nDesigned to help job seekers from all backgrounds\, this workshop is packed with valuable tips and insights that will get you noticed by hiring professionals. \nLearn about: \n\nthe components of an effective resume\nthe different resume format (and which one works best for you)\nhow to include references\nhow to optimize for ATS (Applicant Tracking Systems)\nkeywords – where to find them and how to use them\nsoft skills vs hard skills\nand more!\n\nYou will also learn how to apply for jobs online with your new resume and cover letter\, and how to uncover the hidden job market. \nMake your resume stand out. Register for Resumes & Cover Letters Workshop. \n\n\n\n\n\nResume Workshop Registration\n\n\n\n\n\n\n\nPlease fill out this form. A JVS Toronto representative will contact you with more details including links and instructions.\n\n    First Name\n        *\n    \n    \n    \n    \n\n\n    Last Name\n        *\n    \n    \n    \n    \n\n\n    Email\n        *\n    \n    \n    \n    \n\n\n    Phone\n        *\n    \n    \n    \n    \n\n\n    Do you currently live in Ontario?\n        *\n    \n    					\n					 Yes\n					\n					 No\n\n    \n    \n\n\nJVS Toronto's Job Search Workshops are only open to residents of Ontario. If you are immigrating to Canada in the next 2 to 12 months\, please visit Canada InfoNet for pre-arrival employment services.  \nIf you live in another province or territory\, please contact your provincial or territorial government for employment assistance in your area. \n\n\n\n    Select the date of the workshop you would like to attend\n        *\n    \n    		\n		Tuesday April 21Tuesday April 28Tuesday May 5Tuesday May 12Tuesday May 19Tuesday May 26	\n	\n    \n    \n\n\n    Are you already a JVS Toronto client?\n        *\n    \n    					\n					 Yes\n					\n					 No\n\n    \n    \n\n\n    If yes\, what is the name of your Employment Counsellor?\n        \n    \n    \n    \n    \n\n\n    Would you like more information about one-on-one employment counselling and/or other JVS Toronto employment support services?\n        *\n    \n    					\n					 Yes\n					\n					 No\n\n    \n    \n\n\n	\n\nSubmit\n\n\n\n	\n			\n			\n				If you are human\, leave this field blank.			\n			\n		\n		\n\n\n\nΔ
URL:https://www.jvstoronto.org/workshop-calendar/resumes-cover-letters-2/2026-02-10/
LOCATION:Online\, Toronto\, Ontario\, Canada
CATEGORIES:Job Search Skills,Resume Workshops
ATTACH;FMTTYPE=image/png:https://www.jvstoronto.org/wp-content/uploads/2021/03/CalendarIcons_Hiring.png
END:VEVENT
BEGIN:VEVENT
DTSTART;TZID=America/Toronto:20260211T100000
DTEND;TZID=America/Toronto:20260211T120000
DTSTAMP:20260422T011901
CREATED:20251001T124759Z
LAST-MODIFIED:20260420T154652Z
UID:10000782-1770804000-1770811200@www.jvstoronto.org
SUMMARY:AI for Job Seekers
DESCRIPTION:Level up your job search with smart tools\nThis hands-on AI workshop is designed to give you a competitive edge. Learn how to use artificial intelligence to identify the right opportunities\, target applications more effectively\, and prepare for interviews smarter than ever before. \nWe’ll also cover best practices for staying safe and protecting your information while using AI tools. \nRegister for AI for Job Seekers. \n\n\n\n\n\nAI for Job Seekers Workshop Registration\n\n\n\n\n\n\n\n\nPlease fill out this form. A JVS Toronto representative will contact you with more details including links and instructions. \n\n    First Name\n        *\n    \n    \n    \n    \n\n\n    Last Name\n        *\n    \n    \n    \n    \n\n\n    Email\n        *\n    \n    \n    \n    \n\n\n    Phone\n        *\n    \n    \n    \n    \n\n\n    Do you currently live in Ontario?\n        *\n    \n    					\n					 Yes\n					\n					 No\n\n    \n    \n\n\nJVS Toronto's Job Search Workshops are only open to residents of Ontario. If you are immigrating to Canada in the next 2 to 12 months\, please visit Canada InfoNet for pre-arrival employment services.  \nIf you live in another province or territory\, please contact your provincial or territorial government for employment assistance in your area. \n\n\n\n    Select the date of the workshop you would like to attend\n        *\n    \n    		\n		Wednesday April 22Wednesday May 20	\n	\n    \n    \n\n\n    Are you already a JVS Toronto client?\n        *\n    \n    					\n					 Yes\n					\n					 No\n\n    \n    \n\n\n    If yes\, what is the name of your Employment Counsellor?\n        \n    \n    \n    \n    \n\n\n    Would you like more information about one-on-one employment counselling and/or other JVS Toronto employment support services?\n        *\n    \n    					\n					 Yes\n					\n					 No\n\n    \n    \n\n\n	Date\n		\n	\n	\n	\n	\n\n\n	\n\nSubmit\n\n\n\n	\n			\n			\n				If you are human\, leave this field blank.			\n			\n		\n		\n\n\n\nΔ
URL:https://www.jvstoronto.org/workshop-calendar/ai-for-job-seekers/2026-02-11/
LOCATION:Online\, Toronto\, Ontario\, Canada
CATEGORIES:Job Search Skills
ATTACH;FMTTYPE=image/png:https://www.jvstoronto.org/wp-content/uploads/2021/03/CalendarIcons_Skills.png
END:VEVENT
BEGIN:VEVENT
DTSTART;TZID=America/Toronto:20260212T100000
DTEND;TZID=America/Toronto:20260212T133000
DTSTAMP:20260422T011901
CREATED:20221220T193010Z
LAST-MODIFIED:20260420T154929Z
UID:10000785-1770890400-1770903000@www.jvstoronto.org
SUMMARY:Interview Skills
DESCRIPTION:Learn the interview secrets favoured by hiring professionals. \nDiscover the Do’s and Don’ts of interview etiquette – from the very first phone call to the very last thank you email. Turn job interviews into job offers. \nLearn about: \n\ndifferent interview formats and what to expect in them\nhow to prepare for challenging questions\nthe STAR technique\nwhat questions to ask a potential employer\nhow to minimize interview anxiety and feel more confident\nthe best ways to follow-up after the interview\nand more!\n\nAce your next job interview! Register for Interview Skills Workshop. \n\n\n\n\n\nInterview Workshop Registration\n\n\n\n\n\n\n\n\nPlease fill out this form. A JVS Toronto representative will contact you with more details including links and instructions. \n\n    First Name\n        *\n    \n    \n    \n    \n\n\n    Last Name\n        *\n    \n    \n    \n    \n\n\n    Email\n        *\n    \n    \n    \n    \n\n\n    Phone\n        *\n    \n    \n    \n    \n\n\n    Do you currently live in Ontario?\n        *\n    \n    					\n					 Yes\n					\n					 No\n\n    \n    \n\nJVS Toronto's Job Search Workshops are only open to residents of Ontario. If you are immigrating to Canada in the next 2 to 12 months\, please visit Canada InfoNet for pre-arrival employment services. \nIf you live in another province or territory\, please contact your provincial or territorial government for employment assistance in your area. \n\n\n\n    Select the date of the workshop you would like to attend\n        *\n    \n    		\n		Thursday April 23Thursday April 30Thursday May 7Thursday May 14Thursday May 21	\n	\n    \n    \n\n\n    Are you already a JVS Toronto client?\n        *\n    \n    					\n					 Yes\n					\n					 No\n\n    \n    \n\n\n    If yes\, what is the name of your Employment Counsellor?\n        \n    \n    \n    \n    \n\n\n    Would you like more information about one-on-one employment counselling and/or other JVS Toronto employment support services?\n        *\n    \n    					\n					 Yes\n					\n					 No\n\n    \n    \n\n\n	\n\nSubmit\n\n\n\n	\n			\n			\n				If you are human\, leave this field blank.			\n			\n		\n		\n\n\n\nΔ
URL:https://www.jvstoronto.org/workshop-calendar/interview-skills-6/2026-02-12/
LOCATION:Online\, Toronto\, Ontario\, Canada
CATEGORIES:Interview Skills,Job Search Skills
ATTACH;FMTTYPE=image/png:https://www.jvstoronto.org/wp-content/uploads/2021/03/CalendarIcons_Interview.png
END:VEVENT
BEGIN:VEVENT
DTSTART;VALUE=DATE:20260216
DTEND;VALUE=DATE:20260217
DTSTAMP:20260422T011901
CREATED:20231114T141019Z
LAST-MODIFIED:20260309T141305Z
UID:10000806-1771228800-1771261200@www.jvstoronto.org
SUMMARY:Offices Closed
DESCRIPTION:All JVS Toronto in-person and virtual services are closed for the day.
URL:https://www.jvstoronto.org/workshop-calendar/closed/2026-02-16/
LOCATION:Online\, Toronto\, Ontario\, Canada
CATEGORIES:Hiring Events,Interview Skills,Job Search Skills,LinkedIn Tips,Networking & Info Sessions,Newcomer Events,Resume Workshops,Youth Events
ATTACH;FMTTYPE=image/png:https://www.jvstoronto.org/wp-content/uploads/2021/03/CalendarIcons_Resume.png
END:VEVENT
BEGIN:VEVENT
DTSTART;TZID=America/Toronto:20260217T100000
DTEND;TZID=America/Toronto:20260217T123000
DTSTAMP:20260422T011901
CREATED:20231214T194226Z
LAST-MODIFIED:20260420T154416Z
UID:10000780-1771322400-1771331400@www.jvstoronto.org
SUMMARY:Resumes & Cover Letters
DESCRIPTION:Create a resume and cover letter that get results.\nDesigned to help job seekers from all backgrounds\, this workshop is packed with valuable tips and insights that will get you noticed by hiring professionals. \nLearn about: \n\nthe components of an effective resume\nthe different resume format (and which one works best for you)\nhow to include references\nhow to optimize for ATS (Applicant Tracking Systems)\nkeywords – where to find them and how to use them\nsoft skills vs hard skills\nand more!\n\nYou will also learn how to apply for jobs online with your new resume and cover letter\, and how to uncover the hidden job market. \nMake your resume stand out. Register for Resumes & Cover Letters Workshop. \n\n\n\n\n\nResume Workshop Registration\n\n\n\n\n\n\n\nPlease fill out this form. A JVS Toronto representative will contact you with more details including links and instructions.\n\n    First Name\n        *\n    \n    \n    \n    \n\n\n    Last Name\n        *\n    \n    \n    \n    \n\n\n    Email\n        *\n    \n    \n    \n    \n\n\n    Phone\n        *\n    \n    \n    \n    \n\n\n    Do you currently live in Ontario?\n        *\n    \n    					\n					 Yes\n					\n					 No\n\n    \n    \n\n\nJVS Toronto's Job Search Workshops are only open to residents of Ontario. If you are immigrating to Canada in the next 2 to 12 months\, please visit Canada InfoNet for pre-arrival employment services.  \nIf you live in another province or territory\, please contact your provincial or territorial government for employment assistance in your area. \n\n\n\n    Select the date of the workshop you would like to attend\n        *\n    \n    		\n		Tuesday April 21Tuesday April 28Tuesday May 5Tuesday May 12Tuesday May 19Tuesday May 26	\n	\n    \n    \n\n\n    Are you already a JVS Toronto client?\n        *\n    \n    					\n					 Yes\n					\n					 No\n\n    \n    \n\n\n    If yes\, what is the name of your Employment Counsellor?\n        \n    \n    \n    \n    \n\n\n    Would you like more information about one-on-one employment counselling and/or other JVS Toronto employment support services?\n        *\n    \n    					\n					 Yes\n					\n					 No\n\n    \n    \n\n\n	\n\nSubmit\n\n\n\n	\n			\n			\n				If you are human\, leave this field blank.			\n			\n		\n		\n\n\n\nΔ
URL:https://www.jvstoronto.org/workshop-calendar/resumes-cover-letters-2/2026-02-17/
LOCATION:Online\, Toronto\, Ontario\, Canada
CATEGORIES:Job Search Skills,Resume Workshops
ATTACH;FMTTYPE=image/png:https://www.jvstoronto.org/wp-content/uploads/2021/03/CalendarIcons_Hiring.png
END:VEVENT
BEGIN:VEVENT
DTSTART;TZID=America/Toronto:20260217T100000
DTEND;TZID=America/Toronto:20260217T143000
DTSTAMP:20260422T011901
CREATED:20230328T143728Z
LAST-MODIFIED:20260420T154547Z
UID:10000777-1771322400-1771338600@www.jvstoronto.org
SUMMARY:Job Search Workshop for Newcomers - In-Person
DESCRIPTION:Start your Job Search in Canada with this 3-day in-person workshop.\nGive us 3 days and we will give you more confidence and an understanding of your occupation in Canada. Learn what skills and qualifications companies want and where the jobs are. You’ll get: \n\nAn assessment of your unique needs\nOne-on-one job search coaching\nJob search assistance and support\nA personalized action plan\nValuable info about job search strategies and Canadian businesses\nAccess to job postings\n\nOpen to permanent residents\, convention refugees or live-in caregivers who are able to work and can communicate in English.\nParticipants must meet with a job search specialist prior to starting the program. To book your meeting\, please fill out this registration form. \n\n\n\n\nJSW\n\n\n\n\n\n\n\n\n    First Name\n        \n    \n    \n    \n    \n\n\n    Last Name\n        \n    \n    \n    \n    \n\n\n    Email\n        \n    \n    \n    \n    \n\n\n    Telephone\n        \n    \n    \n    \n    \n\n\n    What kind of program would you like to attend?\n        \n    \n    					\n					 Online\n					\n					 In-Person\n\n    \n    \n\n\n    Do you currently live in Ontario?\n        *\n    \n    					\n					 Yes\n					\n					 No\n\n    \n    \n\n\n	Please select your Immigration Status\n		*\n	\n			\n		Permanent ResidentConvention RefugeeOpen Work PermitRefugee Claimant	\n	\n	\n	\n\nThank you for your interest in JVS Toronto services. Since you are located outside Ontario\, you are not eligible for this program. However\, you are welcome to attend our free workshops and events. Review our Workshop and Events Calendar here.\nThank you for your interest in JVS Toronto services. Due to your Citizenship Status you are not eligible for this program. However\, you are welcome to attend our free workshops and events. Review our Workshop and Events Calendar here.\n\n    Questions or Comments\n        \n    \n    \n    \n    \n\n\n	\n\nSubmit\n\n\n\n	\n			\n			\n				If you are human\, leave this field blank.			\n			\n		\n		\n\n\n\nΔ \n\n\nFor more information\, please email JSW@jvstoronto.org
URL:https://www.jvstoronto.org/workshop-calendar/job-search-workshop-for-newcomers-in-person/2026-02-17/
LOCATION:Employment Source Yonge Street\, 300-4576 Yonge Street\, North York\, ON\, M2N 6N4\, Canada
CATEGORIES:Job Search Skills,Networking & Info Sessions,Newcomer Events
ATTACH;FMTTYPE=image/png:https://www.jvstoronto.org/wp-content/uploads/2021/03/CalendarIcons_Skills.png
ORGANIZER;CN="Employment Source Yonge Street":MAILTO:esyonge@jvstoronto.org
GEO:43.7561482;-79.4099476
X-APPLE-STRUCTURED-LOCATION;VALUE=URI;X-ADDRESS=Employment Source Yonge Street 300-4576 Yonge Street North York ON M2N 6N4 Canada;X-APPLE-RADIUS=500;X-TITLE=300-4576 Yonge Street:geo:-79.4099476,43.7561482
END:VEVENT
BEGIN:VEVENT
DTSTART;TZID=America/Toronto:20260224T100000
DTEND;TZID=America/Toronto:20260224T123000
DTSTAMP:20260422T011901
CREATED:20231214T194226Z
LAST-MODIFIED:20260420T154416Z
UID:10000781-1771927200-1771936200@www.jvstoronto.org
SUMMARY:Resumes & Cover Letters
DESCRIPTION:Create a resume and cover letter that get results.\nDesigned to help job seekers from all backgrounds\, this workshop is packed with valuable tips and insights that will get you noticed by hiring professionals. \nLearn about: \n\nthe components of an effective resume\nthe different resume format (and which one works best for you)\nhow to include references\nhow to optimize for ATS (Applicant Tracking Systems)\nkeywords – where to find them and how to use them\nsoft skills vs hard skills\nand more!\n\nYou will also learn how to apply for jobs online with your new resume and cover letter\, and how to uncover the hidden job market. \nMake your resume stand out. Register for Resumes & Cover Letters Workshop. \n\n\n\n\n\nResume Workshop Registration\n\n\n\n\n\n\n\nPlease fill out this form. A JVS Toronto representative will contact you with more details including links and instructions.\n\n    First Name\n        *\n    \n    \n    \n    \n\n\n    Last Name\n        *\n    \n    \n    \n    \n\n\n    Email\n        *\n    \n    \n    \n    \n\n\n    Phone\n        *\n    \n    \n    \n    \n\n\n    Do you currently live in Ontario?\n        *\n    \n    					\n					 Yes\n					\n					 No\n\n    \n    \n\n\nJVS Toronto's Job Search Workshops are only open to residents of Ontario. If you are immigrating to Canada in the next 2 to 12 months\, please visit Canada InfoNet for pre-arrival employment services.  \nIf you live in another province or territory\, please contact your provincial or territorial government for employment assistance in your area. \n\n\n\n    Select the date of the workshop you would like to attend\n        *\n    \n    		\n		Tuesday April 21Tuesday April 28Tuesday May 5Tuesday May 12Tuesday May 19Tuesday May 26	\n	\n    \n    \n\n\n    Are you already a JVS Toronto client?\n        *\n    \n    					\n					 Yes\n					\n					 No\n\n    \n    \n\n\n    If yes\, what is the name of your Employment Counsellor?\n        \n    \n    \n    \n    \n\n\n    Would you like more information about one-on-one employment counselling and/or other JVS Toronto employment support services?\n        *\n    \n    					\n					 Yes\n					\n					 No\n\n    \n    \n\n\n	\n\nSubmit\n\n\n\n	\n			\n			\n				If you are human\, leave this field blank.			\n			\n		\n		\n\n\n\nΔ
URL:https://www.jvstoronto.org/workshop-calendar/resumes-cover-letters-2/2026-02-24/
LOCATION:Online\, Toronto\, Ontario\, Canada
CATEGORIES:Job Search Skills,Resume Workshops
ATTACH;FMTTYPE=image/png:https://www.jvstoronto.org/wp-content/uploads/2021/03/CalendarIcons_Hiring.png
END:VEVENT
BEGIN:VEVENT
DTSTART;TZID=America/Toronto:20260226T100000
DTEND;TZID=America/Toronto:20260226T133000
DTSTAMP:20260422T011901
CREATED:20221220T193010Z
LAST-MODIFIED:20260420T154929Z
UID:10000787-1772100000-1772112600@www.jvstoronto.org
SUMMARY:Interview Skills
DESCRIPTION:Learn the interview secrets favoured by hiring professionals. \nDiscover the Do’s and Don’ts of interview etiquette – from the very first phone call to the very last thank you email. Turn job interviews into job offers. \nLearn about: \n\ndifferent interview formats and what to expect in them\nhow to prepare for challenging questions\nthe STAR technique\nwhat questions to ask a potential employer\nhow to minimize interview anxiety and feel more confident\nthe best ways to follow-up after the interview\nand more!\n\nAce your next job interview! Register for Interview Skills Workshop. \n\n\n\n\n\nInterview Workshop Registration\n\n\n\n\n\n\n\n\nPlease fill out this form. A JVS Toronto representative will contact you with more details including links and instructions. \n\n    First Name\n        *\n    \n    \n    \n    \n\n\n    Last Name\n        *\n    \n    \n    \n    \n\n\n    Email\n        *\n    \n    \n    \n    \n\n\n    Phone\n        *\n    \n    \n    \n    \n\n\n    Do you currently live in Ontario?\n        *\n    \n    					\n					 Yes\n					\n					 No\n\n    \n    \n\nJVS Toronto's Job Search Workshops are only open to residents of Ontario. If you are immigrating to Canada in the next 2 to 12 months\, please visit Canada InfoNet for pre-arrival employment services. \nIf you live in another province or territory\, please contact your provincial or territorial government for employment assistance in your area. \n\n\n\n    Select the date of the workshop you would like to attend\n        *\n    \n    		\n		Thursday April 23Thursday April 30Thursday May 7Thursday May 14Thursday May 21	\n	\n    \n    \n\n\n    Are you already a JVS Toronto client?\n        *\n    \n    					\n					 Yes\n					\n					 No\n\n    \n    \n\n\n    If yes\, what is the name of your Employment Counsellor?\n        \n    \n    \n    \n    \n\n\n    Would you like more information about one-on-one employment counselling and/or other JVS Toronto employment support services?\n        *\n    \n    					\n					 Yes\n					\n					 No\n\n    \n    \n\n\n	\n\nSubmit\n\n\n\n	\n			\n			\n				If you are human\, leave this field blank.			\n			\n		\n		\n\n\n\nΔ
URL:https://www.jvstoronto.org/workshop-calendar/interview-skills-6/2026-02-26/
LOCATION:Online\, Toronto\, Ontario\, Canada
CATEGORIES:Interview Skills,Job Search Skills
ATTACH;FMTTYPE=image/png:https://www.jvstoronto.org/wp-content/uploads/2021/03/CalendarIcons_Interview.png
END:VEVENT
END:VCALENDAR