BEGIN:VCALENDAR
VERSION:2.0
PRODID:-//JVS Toronto - ECPv6.15.20//NONSGML v1.0//EN
CALSCALE:GREGORIAN
METHOD:PUBLISH
X-WR-CALNAME:JVS Toronto
X-ORIGINAL-URL:https://www.jvstoronto.org
X-WR-CALDESC:Events for JVS Toronto
REFRESH-INTERVAL;VALUE=DURATION:PT1H
X-Robots-Tag:noindex
X-PUBLISHED-TTL:PT1H
BEGIN:VTIMEZONE
TZID:America/Toronto
BEGIN:DAYLIGHT
TZOFFSETFROM:-0500
TZOFFSETTO:-0400
TZNAME:EDT
DTSTART:20250309T070000
END:DAYLIGHT
BEGIN:STANDARD
TZOFFSETFROM:-0400
TZOFFSETTO:-0500
TZNAME:EST
DTSTART:20251102T060000
END:STANDARD
BEGIN:DAYLIGHT
TZOFFSETFROM:-0500
TZOFFSETTO:-0400
TZNAME:EDT
DTSTART:20260308T070000
END:DAYLIGHT
BEGIN:STANDARD
TZOFFSETFROM:-0400
TZOFFSETTO:-0500
TZNAME:EST
DTSTART:20261101T060000
END:STANDARD
BEGIN:DAYLIGHT
TZOFFSETFROM:-0500
TZOFFSETTO:-0400
TZNAME:EDT
DTSTART:20270314T070000
END:DAYLIGHT
BEGIN:STANDARD
TZOFFSETFROM:-0400
TZOFFSETTO:-0500
TZNAME:EST
DTSTART:20271107T060000
END:STANDARD
END:VTIMEZONE
BEGIN:VEVENT
DTSTART;TZID=America/Toronto:20260422T100000
DTEND;TZID=America/Toronto:20260422T120000
DTSTAMP:20260422T024715
CREATED:20251001T124759Z
LAST-MODIFIED:20260420T154652Z
UID:10000878-1776852000-1776859200@www.jvstoronto.org
SUMMARY:AI for Job Seekers
DESCRIPTION:Level up your job search with smart tools\nThis hands-on AI workshop is designed to give you a competitive edge. Learn how to use artificial intelligence to identify the right opportunities\, target applications more effectively\, and prepare for interviews smarter than ever before. \nWe’ll also cover best practices for staying safe and protecting your information while using AI tools. \nRegister for AI for Job Seekers. \n\n\n\n\n\n\nAI for Job Seekers Workshop Registration\n\n\n\n\n\n\n\n\nPlease fill out this form. A JVS Toronto representative will contact you with more details including links and instructions. \n\n    First Name\n        *\n    \n    \n    \n    \n\n\n    Last Name\n        *\n    \n    \n    \n    \n\n\n    Email\n        *\n    \n    \n    \n    \n\n\n    Phone\n        *\n    \n    \n    \n    \n\n\n    Do you currently live in Ontario?\n        *\n    \n    					\n					 Yes\n					\n					 No\n\n    \n    \n\n\nJVS Toronto's Job Search Workshops are only open to residents of Ontario. If you are immigrating to Canada in the next 2 to 12 months\, please visit Canada InfoNet for pre-arrival employment services.  \nIf you live in another province or territory\, please contact your provincial or territorial government for employment assistance in your area. \n\n\n\n    Select the date of the workshop you would like to attend\n        *\n    \n    		\n		Wednesday April 22Wednesday May 20	\n	\n    \n    \n\n\n    Are you already a JVS Toronto client?\n        *\n    \n    					\n					 Yes\n					\n					 No\n\n    \n    \n\n\n    If yes\, what is the name of your Employment Counsellor?\n        \n    \n    \n    \n    \n\n\n    Would you like more information about one-on-one employment counselling and/or other JVS Toronto employment support services?\n        *\n    \n    					\n					 Yes\n					\n					 No\n\n    \n    \n\n\n	Date\n		\n	\n	\n	\n	\n\n\n	\n\nSubmit\n\n\n\n	\n			\n			\n				If you are human\, leave this field blank.			\n			\n		\n		\n\n\n\nΔ
URL:https://www.jvstoronto.org/workshop-calendar/ai-for-job-seekers/2026-04-22/
LOCATION:Online\, Toronto\, Ontario\, Canada
CATEGORIES:Job Search Skills
ATTACH;FMTTYPE=image/png:https://www.jvstoronto.org/wp-content/uploads/2021/03/CalendarIcons_Skills.png
END:VEVENT
END:VCALENDAR